BEGIN:VCALENDAR
VERSION:2.0
PRODID:-//eventon.com NONSGML v1.0//EN
BEGIN:VEVENT
UID:69ead51ad769f
DTSTAMP:20260423T212738
DTSTART:20220601T010000Z
DTEND:20220601T045000Z
LOCATION:
SUMMARY:John Prather
DESCRIPTION: John Prather
END:VEVENT
END:VCALENDAR