BEGIN:VCALENDAR
VERSION:2.0
PRODID:-//eventon.com NONSGML v1.0//EN
BEGIN:VEVENT
UID:69eabd1356300
DTSTAMP:20260423T194507
DTSTART:20220525T010000Z
DTEND:20220525T045000Z
LOCATION:
SUMMARY:Robert Jericho
DESCRIPTION: Robert Jericho
END:VEVENT
END:VCALENDAR