BEGIN:VCALENDAR
VERSION:2.0
PRODID:-//eventon.com NONSGML v1.0//EN
BEGIN:VEVENT
UID:69eaa69c2133d
DTSTAMP:20260423T180916
DTSTART:20220508T003000Z
DTEND:20220508T023000Z
LOCATION:Speakeasy 412 Congress Ave\,  Austin\,  Texas 78701
SUMMARY:Comedy in the Capital
DESCRIPTION: Comedy in the Capital
END:VEVENT
END:VCALENDAR