BEGIN:VCALENDAR
VERSION:2.0
PRODID:-//eventon.com NONSGML v1.0//EN
BEGIN:VEVENT
UID:69ea90cf2da75
DTSTAMP:20260423T163615
DTSTART:20220521T020000Z
DTEND:20220521T045000Z
LOCATION:Speakeasy 412 Congress Ave\,  Austin\,  Texas 78701
SUMMARY:Konami Code
DESCRIPTION: Konami Code
END:VEVENT
END:VCALENDAR