BEGIN:VCALENDAR
VERSION:2.0
PRODID:-//eventon.com NONSGML v1.0//EN
BEGIN:VEVENT
UID:69ea7a4a1a627
DTSTAMP:20260423T150010
DTSTART:20220520T020000Z
DTEND:20220520T045000Z
LOCATION:
SUMMARY:The Lonestar Souvenirs
DESCRIPTION: The Lonestar Souvenirs
END:VEVENT
END:VCALENDAR