BEGIN:VCALENDAR
VERSION:2.0
PRODID:-//eventon.com NONSGML v1.0//EN
BEGIN:VEVENT
UID:69ea650ff10b2
DTSTAMP:20260423T132935
DTSTART:20220518T010000Z
DTEND:20220518T045000Z
LOCATION:Speakeasy 412 Congress Ave\,  Austin\,  Texas 78701
SUMMARY:JB Parker
DESCRIPTION: JB Parker
END:VEVENT
END:VCALENDAR