BEGIN:VCALENDAR
VERSION:2.0
PRODID:-//eventon.com NONSGML v1.0//EN
BEGIN:VEVENT
UID:69ea4f9d1833e
DTSTAMP:20260423T115805
DTSTART:20220514T023000Z
DTEND:20220514T045000Z
LOCATION:
SUMMARY:Zoodust
DESCRIPTION: Zoodust
END:VEVENT
END:VCALENDAR