BEGIN:VCALENDAR
VERSION:2.0
PRODID:-//eventon.com NONSGML v1.0//EN
BEGIN:VEVENT
UID:69ea1f3df2336
DTSTAMP:20260423T083141
DTSTART:20220507T023000Z
DTEND:20220507T045000Z
LOCATION:Speakeasy 412 Congress Ave\,  Austin\,  Texas 78701
SUMMARY:Chandler and The Bings
DESCRIPTION: Chandler and The Bings
END:VEVENT
END:VCALENDAR