BEGIN:VCALENDAR
VERSION:2.0
PRODID:-//eventon.com NONSGML v1.0//EN
BEGIN:VEVENT
UID:69e9f8718458e
DTSTAMP:20260423T054609
DTSTART:20220504T010000Z
DTEND:20220504T045000Z
LOCATION:
SUMMARY:John Prather
DESCRIPTION: John Prather
END:VEVENT
END:VCALENDAR