BEGIN:VCALENDAR
VERSION:2.0
PRODID:-//eventon.com NONSGML v1.0//EN
BEGIN:VEVENT
UID:69e9cd409f3ff
DTSTAMP:20260423T024152
DTSTART:20220409T020000Z
DTEND:20220409T045000Z
LOCATION:
SUMMARY:Forrest and the Fire
DESCRIPTION: Forrest and the Fire
END:VEVENT
END:VCALENDAR