BEGIN:VCALENDAR
VERSION:2.0
PRODID:-//eventon.com NONSGML v1.0//EN
BEGIN:VEVENT
UID:69e9b8ce9c5a0
DTSTAMP:20260423T011438
DTSTART:20220416T020000Z
DTEND:20220416T045000Z
LOCATION:Speakeasy 412 Congress Ave\,  Austin\,  Texas 78701
SUMMARY:Konami Code
DESCRIPTION: Konami Code
END:VEVENT
END:VCALENDAR