BEGIN:VCALENDAR
VERSION:2.0
PRODID:-//eventon.com NONSGML v1.0//EN
BEGIN:VEVENT
UID:69e9b9a3905c9
DTSTAMP:20260423T011811
DTSTART:20220410T023000Z
DTEND:20220410T045000Z
LOCATION:Speakeasy 412 Congress Ave\,  Austin\,  Texas 78701
SUMMARY:Chris Boss Band
DESCRIPTION: Chris Boss Band
END:VEVENT
END:VCALENDAR