BEGIN:VCALENDAR
VERSION:2.0
PRODID:-//eventon.com NONSGML v1.0//EN
BEGIN:VEVENT
UID:69e987d256323
DTSTAMP:20260422T214538
DTSTART:20220403T020000Z
DTEND:20220403T045000Z
LOCATION:Speakeasy 412 Congress Ave\,  Austin\,  Texas 78701
SUMMARY:The Reminders
DESCRIPTION: The Reminders
END:VEVENT
END:VCALENDAR