BEGIN:VCALENDAR
VERSION:2.0
PRODID:-//eventon.com NONSGML v1.0//EN
BEGIN:VEVENT
UID:69e9714cd6499
DTSTAMP:20260422T200932
DTSTART:20220413T010000Z
DTEND:20220413T045000Z
LOCATION:Speakeasy 412 Congress Ave\,  Austin\,  Texas 78701
SUMMARY:Bruce Islandmind
DESCRIPTION: Bruce Islandmind
END:VEVENT
END:VCALENDAR