BEGIN:VCALENDAR
VERSION:2.0
PRODID:-//eventon.com NONSGML v1.0//EN
BEGIN:VEVENT
UID:69e95c30bd70b
DTSTAMP:20260422T183928
DTSTART:20220427T010000Z
DTEND:20220427T045000Z
LOCATION:
SUMMARY:Robert Jericho
DESCRIPTION: Robert Jericho
END:VEVENT
END:VCALENDAR