BEGIN:VCALENDAR
VERSION:2.0
PRODID:-//eventon.com NONSGML v1.0//EN
BEGIN:VEVENT
UID:69e9450b00799
DTSTAMP:20260422T170043
DTSTART:20220422T020000Z
DTEND:20220422T045000Z
LOCATION:
SUMMARY:The Lonestar Souvenirs
DESCRIPTION: The Lonestar Souvenirs
END:VEVENT
END:VCALENDAR