BEGIN:VCALENDAR
VERSION:2.0
PRODID:-//eventon.com NONSGML v1.0//EN
BEGIN:VEVENT
UID:69e91b8dbe6d2
DTSTAMP:20260422T140341
DTSTART:20220406T010000Z
DTEND:20220406T045000Z
LOCATION:
SUMMARY:John Prather
DESCRIPTION: John Prather
END:VEVENT
END:VCALENDAR