BEGIN:VCALENDAR
VERSION:2.0
PRODID:-//eventon.com NONSGML v1.0//EN
BEGIN:VEVENT
UID:69e8f054915c1
DTSTAMP:20260422T105916
DTSTART:20220420T010000Z
DTEND:20220420T045000Z
LOCATION:Speakeasy 412 Congress Ave\,  Austin\,  Texas 78701
SUMMARY:JB Parker
DESCRIPTION: JB Parker
END:VEVENT
END:VCALENDAR