BEGIN:VCALENDAR
VERSION:2.0
PRODID:-//eventon.com NONSGML v1.0//EN
BEGIN:VEVENT
UID:69e8d7f517323
DTSTAMP:20260422T091517
DTSTART:20220429T020000Z
DTEND:20220429T045000Z
LOCATION:Speakeasy 412 Congress Ave\,  Austin\,  Texas 78701
SUMMARY:Drover Mad
DESCRIPTION: Drover Mad
END:VEVENT
END:VCALENDAR