BEGIN:VCALENDAR
VERSION:2.0
PRODID:-//eventon.com NONSGML v1.0//EN
BEGIN:VEVENT
UID:69e894873aecd
DTSTAMP:20260422T042735
DTSTART:20220417T230000Z
DTEND:20220418T045000Z
LOCATION:Speakeasy 412 Congress Ave\,  Austin\,  Texas 78701
SUMMARY:Drover Mad
DESCRIPTION: Drover Mad
END:VEVENT
END:VCALENDAR