BEGIN:VCALENDAR
VERSION:2.0
PRODID:-//eventon.com NONSGML v1.0//EN
BEGIN:VEVENT
UID:69e8665fdbb85
DTSTAMP:20260422T011039
DTSTART:20220403T230000Z
DTEND:20220404T030000Z
LOCATION:Speakeasy 412 Congress Ave\,  Austin\,  Texas 78701
SUMMARY:Drover Mad
DESCRIPTION: Drover Mad
END:VEVENT
END:VCALENDAR