BEGIN:VCALENDAR
VERSION:2.0
PRODID:-//eventon.com NONSGML v1.0//EN
BEGIN:VEVENT
UID:69e850be63eb8
DTSTAMP:20260421T233822
DTSTART:20220426T010000Z
DTEND:20220426T045000Z
LOCATION:Speakeasy 412 Congress Ave\,  Austin\,  Texas 78701
SUMMARY:Open Mic with Raul Ochoa
DESCRIPTION: Open Mic with Raul Ochoa
END:VEVENT
END:VCALENDAR