BEGIN:VCALENDAR
VERSION:2.0
PRODID:-//eventon.com NONSGML v1.0//EN
BEGIN:VEVENT
UID:69e8340486808
DTSTAMP:20260421T213548
DTSTART:20220419T010000Z
DTEND:20220419T045000Z
LOCATION:Speakeasy 412 Congress Ave\,  Austin\,  Texas 78701
SUMMARY:Open Mic with Raul Ochoa
DESCRIPTION: Open Mic with Raul Ochoa
END:VEVENT
END:VCALENDAR