BEGIN:VCALENDAR
VERSION:2.0
PRODID:-//eventon.com NONSGML v1.0//EN
BEGIN:VEVENT
UID:69e82ca6640e9
DTSTAMP:20260421T210422
DTSTART:20220412T010000Z
DTEND:20220412T045000Z
LOCATION:Speakeasy 412 Congress Ave\,  Austin\,  Texas 78701
SUMMARY:Open Mic with Raul Ochoa
DESCRIPTION: Open Mic with Raul Ochoa
END:VEVENT
END:VCALENDAR