BEGIN:VCALENDAR
VERSION:2.0
PRODID:-//eventon.com NONSGML v1.0//EN
BEGIN:VEVENT
UID:69e80037c5c4f
DTSTAMP:20260421T175447
DTSTART:20220405T010000Z
DTEND:20220405T045000Z
LOCATION:
SUMMARY:Open Mic with Raul Ochoa
DESCRIPTION: Open Mic with Raul Ochoa
END:VEVENT
END:VCALENDAR