BEGIN:VCALENDAR
VERSION:2.0
PRODID:-//eventon.com NONSGML v1.0//EN
BEGIN:VEVENT
UID:69e7fba00a02d
DTSTAMP:20260421T173512
DTSTART:20220423T023000Z
DTEND:20220423T045000Z
LOCATION:
SUMMARY:Zoodust
DESCRIPTION: Zoodust
END:VEVENT
END:VCALENDAR