BEGIN:VCALENDAR
VERSION:2.0
PRODID:-//eventon.com NONSGML v1.0//EN
BEGIN:VEVENT
UID:69e7e24775a6b
DTSTAMP:20260421T154703
DTSTART:20220428T020000Z
DTEND:20220428T045000Z
LOCATION:
SUMMARY:Well Played
DESCRIPTION: Well Played
END:VEVENT
END:VCALENDAR