BEGIN:VCALENDAR
VERSION:2.0
PRODID:-//eventon.com NONSGML v1.0//EN
BEGIN:VEVENT
UID:69e7b1174faf9
DTSTAMP:20260421T121711
DTSTART:20220421T020000Z
DTEND:20220421T045000Z
LOCATION:
SUMMARY:Well Played
DESCRIPTION: Well Played
END:VEVENT
END:VCALENDAR