BEGIN:VCALENDAR
VERSION:2.0
PRODID:-//eventon.com NONSGML v1.0//EN
BEGIN:VEVENT
UID:69e798082cc5c
DTSTAMP:20260421T103016
DTSTART:20220414T020000Z
DTEND:20220414T045000Z
LOCATION:
SUMMARY:Well Played
DESCRIPTION: Well Played
END:VEVENT
END:VCALENDAR