BEGIN:VCALENDAR
VERSION:2.0
PRODID:-//eventon.com NONSGML v1.0//EN
BEGIN:VEVENT
UID:69e77fc55b290
DTSTAMP:20260421T084645
DTSTART:20220407T020000Z
DTEND:20220407T045000Z
LOCATION:
SUMMARY:Well Played
DESCRIPTION: Well Played
END:VEVENT
END:VCALENDAR