BEGIN:VCALENDAR
VERSION:2.0
PRODID:-//eventon.com NONSGML v1.0//EN
BEGIN:VEVENT
UID:69e7687ccebb1
DTSTAMP:20260421T070724
DTSTART:20220408T020000Z
DTEND:20220408T045000Z
LOCATION:
SUMMARY:The Lonestar Souvenirs
DESCRIPTION: The Lonestar Souvenirs
END:VEVENT
END:VCALENDAR