BEGIN:VCALENDAR
VERSION:2.0
PRODID:-//eventon.com NONSGML v1.0//EN
BEGIN:VEVENT
UID:69e737cc8bc5b
DTSTAMP:20260421T033940
DTSTART:20220417T003000Z
DTEND:20220417T023000Z
LOCATION:Speakeasy 412 Congress Ave\,  Austin\,  Texas 78701
SUMMARY:Comedy in the Capital
DESCRIPTION: Comedy in the Capital
END:VEVENT
END:VCALENDAR