BEGIN:VCALENDAR
VERSION:2.0
PRODID:-//eventon.com NONSGML v1.0//EN
BEGIN:VEVENT
UID:69e750bbf3421
DTSTAMP:20260421T052603
DTSTART:20220410T003000Z
DTEND:20220410T023000Z
LOCATION:Speakeasy 412 Congress Ave\,  Austin\,  Texas 78701
SUMMARY:Comedy in the Capital
DESCRIPTION: Comedy in the Capital
END:VEVENT
END:VCALENDAR