BEGIN:VCALENDAR
VERSION:2.0
PRODID:-//eventon.com NONSGML v1.0//EN
BEGIN:VEVENT
UID:69e77e01ba7d3
DTSTAMP:20260421T083913
DTSTART:20220403T003000Z
DTEND:20220403T023000Z
LOCATION:Speakeasy 412 Congress Ave\,  Austin\,  Texas 78701
SUMMARY:Comedy in the Capital
DESCRIPTION: Comedy in the Capital
END:VEVENT
END:VCALENDAR