BEGIN:VCALENDAR
VERSION:2.0
PRODID:-//eventon.com NONSGML v1.0//EN
BEGIN:VEVENT
UID:69e79acc27bb2
DTSTAMP:20260421T104204
DTSTART:20220327T023000Z
DTEND:20220327T045000Z
LOCATION:Speakeasy 412 Congress Ave\,  Austin\,  Texas 78701
SUMMARY:Chris Boss Band
DESCRIPTION: Chris Boss Band
END:VEVENT
END:VCALENDAR