BEGIN:VCALENDAR
VERSION:2.0
PRODID:-//eventon.com NONSGML v1.0//EN
BEGIN:VEVENT
UID:69e7afe58ca82
DTSTAMP:20260421T121205
DTSTART:20220326T023000Z
DTEND:20220326T045000Z
LOCATION:Speakeasy 412 Congress Ave\,  Austin\,  Texas 78701
SUMMARY:Weak Knights
DESCRIPTION: Weak Knights
END:VEVENT
END:VCALENDAR