BEGIN:VCALENDAR
VERSION:2.0
PRODID:-//eventon.com NONSGML v1.0//EN
BEGIN:VEVENT
UID:69e7e2ae78cec
DTSTAMP:20260421T154846
DTSTART:20220401T020000Z
DTEND:20220401T045000Z
LOCATION:Speakeasy 412 Congress Ave\,  Austin\,  Texas 78701
SUMMARY:Lonestar Souvenirs
DESCRIPTION: Lonestar Souvenirs
END:VEVENT
END:VCALENDAR