BEGIN:VCALENDAR
VERSION:2.0
PRODID:-//eventon.com NONSGML v1.0//EN
BEGIN:VEVENT
UID:69e7fbc3264c0
DTSTAMP:20260421T173547
DTSTART:20220320T023000Z
DTEND:20220320T045000Z
LOCATION:Speakeasy 412 Congress Ave\,  Austin\,  Texas 78701
SUMMARY:Lonestar Souvenirs
DESCRIPTION: Lonestar Souvenirs
END:VEVENT
END:VCALENDAR