BEGIN:VCALENDAR
VERSION:2.0
PRODID:-//eventon.com NONSGML v1.0//EN
BEGIN:VEVENT
UID:69e82ae78859b
DTSTAMP:20260421T205655
DTSTART:20220313T023000Z
DTEND:20220313T045000Z
LOCATION:Speakeasy 412 Congress Ave\,  Austin\,  Texas 78701
SUMMARY:Lonestar Souvenirs
DESCRIPTION: Lonestar Souvenirs
END:VEVENT
END:VCALENDAR