BEGIN:VCALENDAR
VERSION:2.0
PRODID:-//eventon.com NONSGML v1.0//EN
BEGIN:VEVENT
UID:69e84382ade0c
DTSTAMP:20260421T224154
DTSTART:20220331T020000Z
DTEND:20220331T045000Z
LOCATION:Speakeasy 412 Congress Ave\,  Austin\,  Texas 78701
SUMMARY:Well Played
DESCRIPTION: Well Played
END:VEVENT
END:VCALENDAR