BEGIN:VCALENDAR
VERSION:2.0
PRODID:-//eventon.com NONSGML v1.0//EN
BEGIN:VEVENT
UID:69e846c222e79
DTSTAMP:20260421T225546
DTSTART:20220324T020000Z
DTEND:20220324T045000Z
LOCATION:Speakeasy 412 Congress Ave\,  Austin\,  Texas 78701
SUMMARY:Well Played
DESCRIPTION: Well Played
END:VEVENT
END:VCALENDAR