BEGIN:VCALENDAR
VERSION:2.0
PRODID:-//eventon.com NONSGML v1.0//EN
BEGIN:VEVENT
UID:69e85f1667d61
DTSTAMP:20260422T003934
DTSTART:20220310T020000Z
DTEND:20220310T045000Z
LOCATION:Speakeasy 412 Congress Ave\,  Austin\,  Texas 78701
SUMMARY:Well Played
DESCRIPTION: Well Played
END:VEVENT
END:VCALENDAR