BEGIN:VCALENDAR
VERSION:2.0
PRODID:-//eventon.com NONSGML v1.0//EN
BEGIN:VEVENT
UID:69e8740c518d6
DTSTAMP:20260422T020900
DTSTART:20220329T020000Z
DTEND:20220329T045000Z
LOCATION:Speakeasy 412 Congress Ave\,  Austin\,  Texas 78701
SUMMARY:Open Mic Night
DESCRIPTION: Open Mic Night
END:VEVENT
END:VCALENDAR