BEGIN:VCALENDAR
VERSION:2.0
PRODID:-//eventon.com NONSGML v1.0//EN
BEGIN:VEVENT
UID:69e890a049ba7
DTSTAMP:20260422T041056
DTSTART:20220322T020000Z
DTEND:20220322T045000Z
LOCATION:Speakeasy 412 Congress Ave\,  Austin\,  Texas 78701
SUMMARY:Open Mic Night
DESCRIPTION: Open Mic Night
END:VEVENT
END:VCALENDAR