BEGIN:VCALENDAR
VERSION:2.0
PRODID:-//eventon.com NONSGML v1.0//EN
BEGIN:VEVENT
UID:69e8a94f172c6
DTSTAMP:20260422T055615
DTSTART:20220315T020000Z
DTEND:20220315T045000Z
LOCATION:Speakeasy 412 Congress Ave\,  Austin\,  Texas 78701
SUMMARY:Open Mic Night
DESCRIPTION: Open Mic Night
END:VEVENT
END:VCALENDAR