BEGIN:VCALENDAR
VERSION:2.0
PRODID:-//eventon.com NONSGML v1.0//EN
BEGIN:VEVENT
UID:69e8be99e22fc
DTSTAMP:20260422T072705
DTSTART:20220327T230000Z
DTEND:20220328T030000Z
LOCATION:Speakeasy 412 Congress Ave\,  Austin\,  Texas 78701
SUMMARY:Drover Mad
DESCRIPTION: Drover Mad
END:VEVENT
END:VCALENDAR