BEGIN:VCALENDAR
VERSION:2.0
PRODID:-//eventon.com NONSGML v1.0//EN
BEGIN:VEVENT
UID:69e8d4cda2a94
DTSTAMP:20260422T090149
DTSTART:20220306T230000Z
DTEND:20220307T030000Z
LOCATION:Speakeasy 412 Congress Ave\,  Austin\,  Texas 78701
SUMMARY:Drover Mad
DESCRIPTION: Drover Mad
END:VEVENT
END:VCALENDAR