BEGIN:VCALENDAR
VERSION:2.0
PRODID:-//eventon.com NONSGML v1.0//EN
BEGIN:VEVENT
UID:69e8e805e5fae
DTSTAMP:20260422T102349
DTSTART:20220223T010000Z
DTEND:20220223T045000Z
LOCATION:Speakeasy 412 Congress Ave\,  Austin\,  Texas 78701
SUMMARY:JB Parker
DESCRIPTION: JB Parker
END:VEVENT
END:VCALENDAR