BEGIN:VCALENDAR
VERSION:2.0
PRODID:-//eventon.com NONSGML v1.0//EN
BEGIN:VEVENT
UID:69e8fe6a36d19
DTSTAMP:20260422T115922
DTSTART:20220216T010000Z
DTEND:20220216T045000Z
LOCATION:Speakeasy 412 Congress Ave\,  Austin\,  Texas 78701
SUMMARY:JB Parker
DESCRIPTION: JB Parker
END:VEVENT
END:VCALENDAR