BEGIN:VCALENDAR
VERSION:2.0
PRODID:-//eventon.com NONSGML v1.0//EN
BEGIN:VEVENT
UID:69e92dc81348a
DTSTAMP:20260422T152128
DTSTART:20220224T020000Z
DTEND:20220224T045000Z
LOCATION:Speakeasy 412 Congress Ave\,  Austin\,  Texas 78701
SUMMARY:Well Played
DESCRIPTION: Well Played
END:VEVENT
END:VCALENDAR